BEGIN:VCALENDAR
VERSION:2.0
PRODID:-//coplaypubliclibraryorg.presencehost.net//NONSGML kigkonsult.se iC
 alcreator 2.30.10//
CALSCALE:GREGORIAN
METHOD:PUBLISH
UID:1a704e05-9e51-4cf0-b804-ff058d58bdf5
X-WR-CALDESC:We have yarn and crocheting needles to practice.
X-WR-RELCALID:4d3c6d9e9955cdeb27f4999c345663c5
X-WR-TIMEZONE:America/Chicago
BEGIN:VTIMEZONE
TZID:America/Chicago
BEGIN:STANDARD
TZNAME:CST
DTSTART:20251102T020000
TZOFFSETFROM:-0500
TZOFFSETTO:-0600
RDATE:20261101T020000
END:STANDARD
BEGIN:DAYLIGHT
TZNAME:CDT
DTSTART:20250309T020000
TZOFFSETFROM:-0600
TZOFFSETTO:-0500
RDATE:20260308T020000
RDATE:20270314T020000
END:DAYLIGHT
END:VTIMEZONE
BEGIN:VEVENT
UID:cb2cbcf7-4c01-4e57-a77a-3675a6f11401
DTSTAMP:20260426T042530Z
DESCRIPTION:We have yarn and crocheting needles to practice.
DTSTART;TZID=America/Chicago:20251119T130000
DTEND;TZID=America/Chicago:20251119T140000
LOCATION:49 S. 5TH St\, Coplay\, PA 18032 US
SUMMARY:CROCHET CLUB Beginners welcome!
END:VEVENT
END:VCALENDAR
