BEGIN:VCALENDAR
VERSION:2.0
PRODID:-//coplaypubliclibraryorg.presencehost.net//NONSGML kigkonsult.se iC
 alcreator 2.30.10//
CALSCALE:GREGORIAN
METHOD:PUBLISH
UID:c7f52db5-c57f-453a-b677-0cb39d35ec55
X-WR-CALDESC:We have yarn and crocheting needles to practice.
X-WR-RELCALID:4ec146a8e871b7bd1bba9bf6a635564d
X-WR-TIMEZONE:America/Chicago
BEGIN:VTIMEZONE
TZID:America/Chicago
BEGIN:STANDARD
TZNAME:CST
DTSTART:20251102T020000
TZOFFSETFROM:-0500
TZOFFSETTO:-0600
RDATE:20261101T020000
END:STANDARD
BEGIN:DAYLIGHT
TZNAME:CDT
DTSTART:20250309T020000
TZOFFSETFROM:-0600
TZOFFSETTO:-0500
RDATE:20260308T020000
RDATE:20270314T020000
END:DAYLIGHT
END:VTIMEZONE
BEGIN:VEVENT
UID:3c80ecfc-aa94-436d-95cf-de597b7507ea
DTSTAMP:20260426T005208Z
DESCRIPTION:We have yarn and crocheting needles to practice.
DTSTART;TZID=America/Chicago:20260204T130000
DTEND;TZID=America/Chicago:20260204T140000
LOCATION:49 S. 5TH St\, Coplay\, PA 18032 US
SUMMARY:CROCHET CLUB Beginners welcome!
END:VEVENT
END:VCALENDAR
