BEGIN:VCALENDAR
VERSION:2.0
PRODID:-//coplaypubliclibraryorg.presencehost.net//NONSGML kigkonsult.se iC
 alcreator 2.30.10//
CALSCALE:GREGORIAN
METHOD:PUBLISH
UID:28f0f221-9eb7-4570-993e-98d7622a06ae
X-WR-CALDESC:Monthly meeting of the Coplay Public Library Board of Trustees
 .\nOpen to the public.\nFor the current meeting agenda please see the link
  below.
X-WR-RELCALID:9340a4b48ec3b7a96d79a7241eab2acf
X-WR-TIMEZONE:America/Chicago
BEGIN:VTIMEZONE
TZID:America/Chicago
BEGIN:STANDARD
TZNAME:CST
DTSTART:20251102T020000
TZOFFSETFROM:-0500
TZOFFSETTO:-0600
RDATE:20261101T020000
END:STANDARD
BEGIN:DAYLIGHT
TZNAME:CDT
DTSTART:20250309T020000
TZOFFSETFROM:-0600
TZOFFSETTO:-0500
RDATE:20260308T020000
RDATE:20270314T020000
END:DAYLIGHT
END:VTIMEZONE
BEGIN:VEVENT
UID:e570f731-f438-458c-ba03-dad44e08325b
DTSTAMP:20260425T234212Z
DESCRIPTION:Monthly meeting of the Coplay Public Library Board of Trustees.
 \nOpen to the public.\nFor the current meeting agenda please see the link 
 below.
DTSTART;TZID=America/Chicago:20260212T190000
DTEND;TZID=America/Chicago:20260212T200000
LOCATION:Borough of Coplay Council Chambers\, 98 S. Fourth St.\, Coplay\, P
 A 18037 US
SUMMARY:Board Meeting
END:VEVENT
END:VCALENDAR
