BEGIN:VCALENDAR
VERSION:2.0
PRODID:-//coplaypubliclibraryorg.presencehost.net//NONSGML kigkonsult.se iC
 alcreator 2.30.10//
CALSCALE:GREGORIAN
METHOD:PUBLISH
UID:e037c6c1-6423-48b0-b0e8-8854faf2354a
X-WR-CALDESC:We have yarn and crocheting needles to practice.
X-WR-RELCALID:0e39b2c98a2f22f506bd559094b0675d
X-WR-TIMEZONE:America/Chicago
BEGIN:VTIMEZONE
TZID:America/Chicago
BEGIN:STANDARD
TZNAME:CST
DTSTART:20251102T020000
TZOFFSETFROM:-0500
TZOFFSETTO:-0600
RDATE:20261101T020000
END:STANDARD
BEGIN:DAYLIGHT
TZNAME:CDT
DTSTART:20250309T020000
TZOFFSETFROM:-0600
TZOFFSETTO:-0500
RDATE:20260308T020000
RDATE:20270314T020000
END:DAYLIGHT
END:VTIMEZONE
BEGIN:VEVENT
UID:4e628ae9-49e2-4277-81a7-f292a2ed1d12
DTSTAMP:20260425T232633Z
DESCRIPTION:We have yarn and crocheting needles to practice.
DTSTART;TZID=America/Chicago:20260304T130000
DTEND;TZID=America/Chicago:20260304T140000
LOCATION:49 S. 5TH St\, Coplay\, PA 18032 US
SUMMARY:CROCHET CLUB Beginners welcome!
END:VEVENT
END:VCALENDAR
