BEGIN:VCALENDAR
VERSION:2.0
PRODID:-//coplaypubliclibraryorg.presencehost.net//NONSGML kigkonsult.se iC
 alcreator 2.30.10//
CALSCALE:GREGORIAN
METHOD:PUBLISH
UID:245326d1-69ac-4b2f-b72b-b162ff38a918
X-WR-CALDESC:Monthly meeting of the Coplay Public Library Board of Trustees
 .\nOpen to the public.\nFor the current meeting agenda please see the link
  below.
X-WR-RELCALID:269517c4bd27ab42a2805e149ab510d9
X-WR-TIMEZONE:America/Chicago
BEGIN:VTIMEZONE
TZID:America/Chicago
BEGIN:STANDARD
TZNAME:CST
DTSTART:20251102T020000
TZOFFSETFROM:-0500
TZOFFSETTO:-0600
RDATE:20261101T020000
END:STANDARD
BEGIN:DAYLIGHT
TZNAME:CDT
DTSTART:20260308T020000
TZOFFSETFROM:-0600
TZOFFSETTO:-0500
RDATE:20270314T020000
END:DAYLIGHT
END:VTIMEZONE
BEGIN:VEVENT
UID:b0083726-5f2e-4864-8e93-5bce521e4198
DTSTAMP:20260425T214320Z
DESCRIPTION:Monthly meeting of the Coplay Public Library Board of Trustees.
 \nOpen to the public.\nFor the current meeting agenda please see the link 
 below.
DTSTART;TZID=America/Chicago:20260312T190000
DTEND;TZID=America/Chicago:20260312T200000
LOCATION:Borough of Coplay Council Chambers\, 98 S. Fourth St.\, Coplay\, P
 A 18037 US
SUMMARY:Board Meeting
END:VEVENT
END:VCALENDAR
