BEGIN:VCALENDAR
VERSION:2.0
PRODID:-//coplaypubliclibraryorg.presencehost.net//NONSGML kigkonsult.se iC
 alcreator 2.30.10//
CALSCALE:GREGORIAN
METHOD:PUBLISH
UID:9f8f9ff9-d1b6-4a3a-87d9-4e7746730660
X-WR-CALDESC:We have yarn and crocheting needles to practice.
X-WR-RELCALID:53b735eb7618a1775f05acfe7d650191
X-WR-TIMEZONE:America/Chicago
BEGIN:VTIMEZONE
TZID:America/Chicago
BEGIN:STANDARD
TZNAME:CST
DTSTART:20251102T020000
TZOFFSETFROM:-0500
TZOFFSETTO:-0600
RDATE:20261101T020000
END:STANDARD
BEGIN:DAYLIGHT
TZNAME:CDT
DTSTART:20260308T020000
TZOFFSETFROM:-0600
TZOFFSETTO:-0500
RDATE:20270314T020000
END:DAYLIGHT
END:VTIMEZONE
BEGIN:VEVENT
UID:3b6a738f-7937-4a6e-ad7c-905e632c37f6
DTSTAMP:20260425T214046Z
DESCRIPTION:We have yarn and crocheting needles to practice.
DTSTART;TZID=America/Chicago:20260408T130000
DTEND;TZID=America/Chicago:20260408T140000
LOCATION:49 S. 5TH St\, Coplay\, PA 18032 US
SUMMARY:CROCHET CLUB Beginners welcome!
END:VEVENT
END:VCALENDAR
