BEGIN:VCALENDAR
VERSION:2.0
PRODID:-//coplaypubliclibraryorg.presencehost.net//NONSGML kigkonsult.se iC
 alcreator 2.30.10//
CALSCALE:GREGORIAN
METHOD:PUBLISH
UID:ade28d3c-dd88-4903-af83-68ad463d1a30
X-WR-CALDESC:Monthly meeting of the Coplay Public Library Board of Trustees
 .\nOpen to the public.\nFor the current meeting agenda please see the link
  below.
X-WR-RELCALID:7c2501cd1bd1e8f5d05f25eea4a7ce85
X-WR-TIMEZONE:America/Chicago
BEGIN:VTIMEZONE
TZID:America/Chicago
BEGIN:STANDARD
TZNAME:CST
DTSTART:20251102T020000
TZOFFSETFROM:-0500
TZOFFSETTO:-0600
RDATE:20261101T020000
RDATE:20271107T020000
END:STANDARD
BEGIN:DAYLIGHT
TZNAME:CDT
DTSTART:20260308T020000
TZOFFSETFROM:-0600
TZOFFSETTO:-0500
RDATE:20270314T020000
END:DAYLIGHT
END:VTIMEZONE
BEGIN:VEVENT
UID:1f050379-246b-45da-8eca-e7bb1f3ae149
DTSTAMP:20260426T022249Z
DESCRIPTION:Monthly meeting of the Coplay Public Library Board of Trustees.
 \nOpen to the public.\nFor the current meeting agenda please see the link 
 below.
DTSTART;TZID=America/Chicago:20260813T190000
DTEND;TZID=America/Chicago:20260813T200000
LOCATION:Borough of Coplay Council Chambers\, 98 S. Fourth St.\, Coplay\, P
 A 18037 US
SUMMARY:Board Meeting
END:VEVENT
END:VCALENDAR
