BEGIN:VCALENDAR
VERSION:2.0
PRODID:-//coplaypubliclibraryorg.presencehost.net//NONSGML kigkonsult.se iC
 alcreator 2.30.10//
CALSCALE:GREGORIAN
METHOD:PUBLISH
UID:e7a9ccbc-22f4-4049-b06c-8747ab0e36ee
X-WR-CALDESC:Monthly meeting of the Coplay Public Library Board of Trustees
 .\nOpen to the public.\nFor the current meeting agenda please see the link
  below.
X-WR-RELCALID:a19d58fc7dd5ea0a363c75f1005253c5
X-WR-TIMEZONE:America/Chicago
BEGIN:VTIMEZONE
TZID:America/Chicago
BEGIN:STANDARD
TZNAME:CST
DTSTART:20251102T020000
TZOFFSETFROM:-0500
TZOFFSETTO:-0600
RDATE:20261101T020000
RDATE:20271107T020000
END:STANDARD
BEGIN:DAYLIGHT
TZNAME:CDT
DTSTART:20260308T020000
TZOFFSETFROM:-0600
TZOFFSETTO:-0500
RDATE:20270314T020000
END:DAYLIGHT
END:VTIMEZONE
BEGIN:VEVENT
UID:3e37a489-eaf3-4fe1-b223-27a04ef09eb3
DTSTAMP:20260426T035022Z
DESCRIPTION:Monthly meeting of the Coplay Public Library Board of Trustees.
 \nOpen to the public.\nFor the current meeting agenda please see the link 
 below.
DTSTART;TZID=America/Chicago:20260910T190000
DTEND;TZID=America/Chicago:20260910T200000
LOCATION:Borough of Coplay Council Chambers\, 98 S. Fourth St.\, Coplay\, P
 A 18037 US
SUMMARY:Board Meeting
END:VEVENT
END:VCALENDAR
