BEGIN:VCALENDAR
VERSION:2.0
PRODID:-//coplaypubliclibraryorg.presencehost.net//NONSGML kigkonsult.se iC
 alcreator 2.30.10//
CALSCALE:GREGORIAN
METHOD:PUBLISH
UID:b0bd1acd-2baf-4d87-bbca-52fdda5693ce
X-WR-CALDESC:We have yarn and crocheting needles to practice.
X-WR-RELCALID:0f77f88fc560d6ea443e0c4e08483695
X-WR-TIMEZONE:America/Chicago
BEGIN:VTIMEZONE
TZID:America/Chicago
BEGIN:STANDARD
TZNAME:CST
DTSTART:20251102T020000
TZOFFSETFROM:-0500
TZOFFSETTO:-0600
RDATE:20261101T020000
END:STANDARD
BEGIN:DAYLIGHT
TZNAME:CDT
DTSTART:20260308T020000
TZOFFSETFROM:-0600
TZOFFSETTO:-0500
RDATE:20270314T020000
END:DAYLIGHT
END:VTIMEZONE
BEGIN:VEVENT
UID:89f7616d-77c4-43a3-9b5b-6cd23ec23fd3
DTSTAMP:20260425T214229Z
DESCRIPTION:We have yarn and crocheting needles to practice.
DTSTART;TZID=America/Chicago:20260401T130000
DTEND;TZID=America/Chicago:20260401T140000
LOCATION:49 S. 5TH St\, Coplay\, PA 18032 US
SUMMARY:CROCHET CLUB Beginners welcome!
END:VEVENT
END:VCALENDAR
